BEGIN:VCALENDAR
PRODID:-//hacksw/handcal//NONSGML v1.0//EN
VERSION:2.0
CALSCALE:GREGORIAN
BEGIN:VTIMEZONE
TZID:Europe/Paris
X-LIC-LOCATION:Europe/Paris
BEGIN:DAYLIGHT
TZOFFSETFROM:+0100
TZOFFSETTO:+0200
TZNAME:CEST
DTSTART:19700329T020000
RRULE:FREQ=YEARLY;BYDAY=-1SU;BYMONTH=3
END:DAYLIGHT
BEGIN:STANDARD
TZOFFSETFROM:+0200
TZOFFSETTO:+0100
TZNAME:CET
DTSTART:19701025T030000
RRULE:FREQ=YEARLY;BYDAY=-1SU;BYMONTH=10
END:STANDARD
END:VTIMEZONE
BEGIN:VEVENT
LOCATION:CPHI Tokyo Big Sight 3 Chome-11-1 Ariake Koto City Tokyo 135-0063 Japan
DESCRIPTION:SusHi Tech Tokyo 2026 https://www.luxembourgforfinance.com/event/sushi-tech-tokyo-2026/
SUMMARY:SusHi Tech Tokyo 2026
DTSTART;TZID=Europe/Paris:20260427T000000
DTEND;TZID=Europe/Paris:20260427T000000
DTSTAMP:20260424T234656
UID:69ec00f0556bc
END:VEVENT
BEGIN:VTIMEZONE
TZID:Europe/Paris
X-LIC-LOCATION:Europe/Paris
BEGIN:DAYLIGHT
TZOFFSETFROM:+0100
TZOFFSETTO:+0200
TZNAME:CEST
DTSTART:19700329T020000
RRULE:FREQ=YEARLY;BYDAY=-1SU;BYMONTH=3
END:DAYLIGHT
BEGIN:STANDARD
TZOFFSETFROM:+0200
TZOFFSETTO:+0100
TZNAME:CET
DTSTART:19701025T030000
RRULE:FREQ=YEARLY;BYDAY=-1SU;BYMONTH=10
END:STANDARD
END:VTIMEZONE
BEGIN:VEVENT
LOCATION:CPHI Tokyo Big Sight 3 Chome-11-1 Ariake Koto City Tokyo 135-0063 Japan
DESCRIPTION:SusHi Tech Tokyo 2026 https://www.luxembourgforfinance.com/event/sushi-tech-tokyo-2026/
SUMMARY:SusHi Tech Tokyo 2026
DTSTART;TZID=Europe/Paris:20260428T000000
DTEND;TZID=Europe/Paris:20260428T000000
DTSTAMP:20260424T234656
UID:69ec00f0556d4
END:VEVENT
BEGIN:VTIMEZONE
TZID:Europe/Paris
X-LIC-LOCATION:Europe/Paris
BEGIN:DAYLIGHT
TZOFFSETFROM:+0100
TZOFFSETTO:+0200
TZNAME:CEST
DTSTART:19700329T020000
RRULE:FREQ=YEARLY;BYDAY=-1SU;BYMONTH=3
END:DAYLIGHT
BEGIN:STANDARD
TZOFFSETFROM:+0200
TZOFFSETTO:+0100
TZNAME:CET
DTSTART:19701025T030000
RRULE:FREQ=YEARLY;BYDAY=-1SU;BYMONTH=10
END:STANDARD
END:VTIMEZONE
BEGIN:VEVENT
LOCATION:CPHI Tokyo Big Sight 3 Chome-11-1 Ariake Koto City Tokyo 135-0063 Japan
DESCRIPTION:SusHi Tech Tokyo 2026 https://www.luxembourgforfinance.com/event/sushi-tech-tokyo-2026/
SUMMARY:SusHi Tech Tokyo 2026
DTSTART;TZID=Europe/Paris:20260429T000000
DTEND;TZID=Europe/Paris:20260429T000000
DTSTAMP:20260424T234656
UID:69ec00f0556de
END:VEVENT
END:VCALENDAR