BEGIN:VCALENDAR
PRODID:-//hacksw/handcal//NONSGML v1.0//EN
VERSION:2.0
CALSCALE:GREGORIAN
BEGIN:VTIMEZONE
TZID:Europe/Paris
X-LIC-LOCATION:Europe/Paris
BEGIN:DAYLIGHT
TZOFFSETFROM:+0100
TZOFFSETTO:+0200
TZNAME:CEST
DTSTART:19700329T020000
RRULE:FREQ=YEARLY;BYDAY=-1SU;BYMONTH=3
END:DAYLIGHT
BEGIN:STANDARD
TZOFFSETFROM:+0200
TZOFFSETTO:+0100
TZNAME:CET
DTSTART:19701025T030000
RRULE:FREQ=YEARLY;BYDAY=-1SU;BYMONTH=10
END:STANDARD
END:VTIMEZONE
BEGIN:VEVENT
LOCATION:Philharmonie  1\, Place de l’Europe  L-1499 Luxembourg
DESCRIPTION:2nd Sustainable Finance Forum https://www.luxembourgforfinance.com/?post_type=event&p=5677
SUMMARY:2nd Sustainable Finance Forum
DTSTART;TZID=Europe/Paris:20190626T083000
DTEND;TZID=Europe/Paris:20190626T170000
DTSTAMP:20260424T214530
UID:69ebe47a35af4
END:VEVENT
END:VCALENDAR